BEGIN:VCALENDAR
VERSION:2.0
PRODID:-//Western Teachers’ Association - WESTTA - ECPv6.15.20//NONSGML v1.0//EN
CALSCALE:GREGORIAN
METHOD:PUBLISH
X-WR-CALNAME:Western Teachers’ Association - WESTTA
X-ORIGINAL-URL:https://westta.ca
X-WR-CALDESC:Events for Western Teachers’ Association - WESTTA
REFRESH-INTERVAL;VALUE=DURATION:PT1H
X-Robots-Tag:noindex
X-PUBLISHED-TTL:PT1H
BEGIN:VTIMEZONE
TZID:America/Winnipeg
BEGIN:DAYLIGHT
TZOFFSETFROM:-0600
TZOFFSETTO:-0500
TZNAME:CDT
DTSTART:20240310T080000
END:DAYLIGHT
BEGIN:STANDARD
TZOFFSETFROM:-0500
TZOFFSETTO:-0600
TZNAME:CST
DTSTART:20241103T070000
END:STANDARD
BEGIN:DAYLIGHT
TZOFFSETFROM:-0600
TZOFFSETTO:-0500
TZNAME:CDT
DTSTART:20250309T080000
END:DAYLIGHT
BEGIN:STANDARD
TZOFFSETFROM:-0500
TZOFFSETTO:-0600
TZNAME:CST
DTSTART:20251102T070000
END:STANDARD
BEGIN:DAYLIGHT
TZOFFSETFROM:-0600
TZOFFSETTO:-0500
TZNAME:CDT
DTSTART:20260308T080000
END:DAYLIGHT
BEGIN:STANDARD
TZOFFSETFROM:-0500
TZOFFSETTO:-0600
TZNAME:CST
DTSTART:20261101T070000
END:STANDARD
END:VTIMEZONE
BEGIN:VEVENT
DTSTART;TZID=America/Winnipeg:20250619T160000
DTEND;TZID=America/Winnipeg:20250619T173000
DTSTAMP:20260419T133244
CREATED:20250516T134541Z
LAST-MODIFIED:20250507T143159Z
UID:1424-1750348800-1750354200@westta.ca
SUMMARY:WESTTA Office Open House
DESCRIPTION:This site is for Members of Western Teachers' Association only. For more information\, please contact the President of WESTTA at president@western.mbteach.org.
URL:https://westta.ca/events/westta-office-open-house
LOCATION:WESTTA Office\, 333 Thornhill St.\, Morden
CATEGORIES:Member Event
END:VEVENT
END:VCALENDAR