BEGIN:VCALENDAR
VERSION:2.0
PRODID:-//Western Teachers’ Association - WESTTA - ECPv6.15.20//NONSGML v1.0//EN
CALSCALE:GREGORIAN
METHOD:PUBLISH
X-WR-CALNAME:Western Teachers’ Association - WESTTA
X-ORIGINAL-URL:https://westta.ca
X-WR-CALDESC:Events for Western Teachers’ Association - WESTTA
REFRESH-INTERVAL;VALUE=DURATION:PT1H
X-Robots-Tag:noindex
X-PUBLISHED-TTL:PT1H
BEGIN:VTIMEZONE
TZID:America/Winnipeg
BEGIN:DAYLIGHT
TZOFFSETFROM:-0600
TZOFFSETTO:-0500
TZNAME:CDT
DTSTART:20230312T080000
END:DAYLIGHT
BEGIN:STANDARD
TZOFFSETFROM:-0500
TZOFFSETTO:-0600
TZNAME:CST
DTSTART:20231105T070000
END:STANDARD
BEGIN:DAYLIGHT
TZOFFSETFROM:-0600
TZOFFSETTO:-0500
TZNAME:CDT
DTSTART:20240310T080000
END:DAYLIGHT
BEGIN:STANDARD
TZOFFSETFROM:-0500
TZOFFSETTO:-0600
TZNAME:CST
DTSTART:20241103T070000
END:STANDARD
BEGIN:DAYLIGHT
TZOFFSETFROM:-0600
TZOFFSETTO:-0500
TZNAME:CDT
DTSTART:20250309T080000
END:DAYLIGHT
BEGIN:STANDARD
TZOFFSETFROM:-0500
TZOFFSETTO:-0600
TZNAME:CST
DTSTART:20251102T070000
END:STANDARD
END:VTIMEZONE
BEGIN:VEVENT
DTSTART;TZID=America/Winnipeg:20241028T080000
DTEND;TZID=America/Winnipeg:20241029T170000
DTSTAMP:20260420T032848
CREATED:20240927T163057Z
LAST-MODIFIED:20240927T163057Z
UID:916-1730102400-1730221200@westta.ca
SUMMARY:MTS Provincial Executive Meeting
DESCRIPTION:This site is for Members of Western Teachers' Association only. For more information\, please contact the President of WESTTA at president@western.mbteach.org.
URL:https://westta.ca/events/mts-provincial-executive-meeting
LOCATION:McMaster House\, 191 Harcourt St\, Winnipeg\, R3J 3H2\, Canada
END:VEVENT
END:VCALENDAR